BEGIN:VCALENDAR
VERSION:2.0
PRODID:-//Faith Commons - ECPv6.15.20//NONSGML v1.0//EN
CALSCALE:GREGORIAN
METHOD:PUBLISH
X-WR-CALNAME:Faith Commons
X-ORIGINAL-URL:https://faithcommons.org
X-WR-CALDESC:Events for Faith Commons
REFRESH-INTERVAL;VALUE=DURATION:PT1H
X-Robots-Tag:noindex
X-PUBLISHED-TTL:PT1H
BEGIN:VTIMEZONE
TZID:UTC
BEGIN:STANDARD
TZOFFSETFROM:+0000
TZOFFSETTO:+0000
TZNAME:UTC
DTSTART:20230101T000000
END:STANDARD
END:VTIMEZONE
BEGIN:VEVENT
DTSTART;TZID=UTC:20240203T123000
DTEND;TZID=UTC:20240203T160000
DTSTAMP:20260425T143645
CREATED:20240125T060000Z
LAST-MODIFIED:20240125T060000Z
UID:4684-1706963400-1706976000@faithcommons.org
SUMMARY:North Texas Faith Votes
DESCRIPTION:Join faith communities from across North Texas for an afternoon of networking and hands-on civic engagement training. \n\nLearn how your congregation can mobilize voters\nHear from local election officials\nConnect with other faith leaders committed to public witness in civic engagement\n\nRegister here: https://texasimpact.org/event/community-event-north-texas-faith-votes/
URL:https://faithcommons.org/event/north-texas-faith-votes/
ATTACH;FMTTYPE=image/png:https://faithcommons.org/wp-content/uploads/2025/04/NTFV-Feb3-Flyer-Square-V2.png
END:VEVENT
END:VCALENDAR