BEGIN:VCALENDAR
VERSION:2.0
PRODID:-//Faith Commons - ECPv6.15.20//NONSGML v1.0//EN
CALSCALE:GREGORIAN
METHOD:PUBLISH
X-ORIGINAL-URL:https://faithcommons.org
X-WR-CALDESC:Events for Faith Commons
REFRESH-INTERVAL;VALUE=DURATION:PT1H
X-Robots-Tag:noindex
X-PUBLISHED-TTL:PT1H
BEGIN:VTIMEZONE
TZID:UTC
BEGIN:STANDARD
TZOFFSETFROM:+0000
TZOFFSETTO:+0000
TZNAME:UTC
DTSTART:20230101T000000
END:STANDARD
END:VTIMEZONE
BEGIN:VEVENT
DTSTART;TZID=UTC:20240617T193000
DTEND;TZID=UTC:20240617T210000
DTSTAMP:20260423T132315
CREATED:20240513T050000Z
LAST-MODIFIED:20250424T165302Z
UID:4691-1718652600-1718658000@faithcommons.org
SUMMARY:Under G-d: Screening and Discussion on Why Abortion Bans Violate Religious Freedom
DESCRIPTION:Under G-d is a 22-minute documentary film that weaves together the stories of a mother and activist in Indiana\, a rabbi in Florida and lawyers throughout the country fighting abortion bans on the grounds of religious freedom as they seek to protect women—and democracy—by preserving the Constitutional right of separation of church and state. \nPanel discussion on why abortion bans violate religious freedom to follow the screening with: \n\nRachel Laser\, President and CEO\, Americans United for Separation of Church and State\nRev. Erika Ferguson\, CEO\, Envision Justice\, The Tubman Travel Project\nModerated by Rev. Dr. George Mason\, President\, Faith Commons\n\nRegister here: https://www.mobilize.us/au/event/620361/ \nAccess the free screening guide here.
URL:https://faithcommons.org/event/under-g-d-screening-and-discussion-on-why-abortion-bans-violate-religious-freedom/
ATTACH;FMTTYPE=image/png:https://faithcommons.org/wp-content/uploads/2025/04/unnamed.png
END:VEVENT
END:VCALENDAR