BEGIN:VCALENDAR
VERSION:2.0
PRODID:-//Faith Commons - ECPv6.15.20//NONSGML v1.0//EN
CALSCALE:GREGORIAN
METHOD:PUBLISH
X-WR-CALNAME:Faith Commons
X-ORIGINAL-URL:https://faithcommons.org
X-WR-CALDESC:Events for Faith Commons
REFRESH-INTERVAL;VALUE=DURATION:PT1H
X-Robots-Tag:noindex
X-PUBLISHED-TTL:PT1H
BEGIN:VTIMEZONE
TZID:America/Chicago
BEGIN:DAYLIGHT
TZOFFSETFROM:-0600
TZOFFSETTO:-0500
TZNAME:CDT
DTSTART:20240310T080000
END:DAYLIGHT
BEGIN:STANDARD
TZOFFSETFROM:-0500
TZOFFSETTO:-0600
TZNAME:CST
DTSTART:20241103T070000
END:STANDARD
BEGIN:DAYLIGHT
TZOFFSETFROM:-0600
TZOFFSETTO:-0500
TZNAME:CDT
DTSTART:20250309T080000
END:DAYLIGHT
BEGIN:STANDARD
TZOFFSETFROM:-0500
TZOFFSETTO:-0600
TZNAME:CST
DTSTART:20251102T070000
END:STANDARD
BEGIN:DAYLIGHT
TZOFFSETFROM:-0600
TZOFFSETTO:-0500
TZNAME:CDT
DTSTART:20260308T080000
END:DAYLIGHT
BEGIN:STANDARD
TZOFFSETFROM:-0500
TZOFFSETTO:-0600
TZNAME:CST
DTSTART:20261101T070000
END:STANDARD
BEGIN:DAYLIGHT
TZOFFSETFROM:-0600
TZOFFSETTO:-0500
TZNAME:CDT
DTSTART:20270314T080000
END:DAYLIGHT
BEGIN:STANDARD
TZOFFSETFROM:-0500
TZOFFSETTO:-0600
TZNAME:CST
DTSTART:20271107T070000
END:STANDARD
END:VTIMEZONE
BEGIN:VEVENT
DTSTART;TZID=America/Chicago:20251026T170000
DTEND;TZID=America/Chicago:20251026T183000
DTSTAMP:20260421T045735
CREATED:20251021T193029Z
LAST-MODIFIED:20251021T193029Z
UID:4992-1761498000-1761503400@faithcommons.org
SUMMARY:Who Is My Neighbor?
DESCRIPTION:Faith Commons and Royal Lane Baptist Church invite you to explore the experiences of local neighbors who will share their personal stories of resilience\, faith\, and advocacy. Together we will reflect on what it means to live out the command to love our neighbors in today’s world. \nEvent details:\nSunday\, October 26\, 2025\n5:00–6:30 PM\nRoyal Lane Baptist Church\n6707 Royal Ln\, Dallas\, TX 75230 \nSpeakers: \n\nSandra Avalos\, Dreamer and immigrant activist\nPastor Isabel Marquez\, Lead Pastor at Gracia Viva en Oak Lawn UMC\nEric Cedillo\, National Legal Advisor for LULAC and president of Dallas MABA\n\nThis program is designed to spark dialogue and deepen our connections with immigrants in our community and beyond. \nOpen to the public. Registration not required.
URL:https://faithcommons.org/event/who-is-my-neighbor/
LOCATION:Royal Lane Baptist Church\, 6707 Royal Ln\, Dallas\, TX\, 75230\, United States
CATEGORIES:Featured
END:VEVENT
BEGIN:VEVENT
DTSTART;TZID=America/Chicago:20260516T140000
DTEND;TZID=America/Chicago:20260516T170000
DTSTAMP:20260421T045735
CREATED:20260415T142642Z
LAST-MODIFIED:20260415T191253Z
UID:5064-1778940000-1778950800@faithcommons.org
SUMMARY:The Future Is Peace: : A Conversation with Aziz Abu Sarah and Maoz Inon
DESCRIPTION:Register Here →\nOverview\n\n\n\nA public conversation on peace\, reconciliation\, and a future beyond division. \n\n\n\n\nOn May 16\, Faith Commons is honored to host Aziz Abu Sarah and Maoz Inon\, co-authors of The Future Is Peace: A Shared Journey Across the Holy Land. Their conversation will explore what can emerge when people refuse the logic of revenge and insist on the dignity of every human life. \nAbu Sarah and Inon do not speak about peace from a distance. One is Palestinian. One is Israeli. Each has endured searing personal loss within a conflict that continues to wound communities and public life. What makes their witness so compelling is not that they avoid the truth of suffering. It is that they face it directly and still argue that another future is possible. \nThis event offers space for reflection at a time when public discourse so often rewards certainty\, outrage\, and division. Their story invites a harder question: what does it look like to reject despair without denying pain? \nAbu Sarah and Inon will be introduced by Dr. Natali Levin Schwartz\, an expert in theories of change and the role of narratives in addressing violence. \nAfter the program\, guests may remain for a book signing. All proceeds from the event will support the work of InterAct. \n2:00 Program \nFollowed by a Reception for Event Sponsors
URL:https://faithcommons.org/event/the-future-is-peace/
LOCATION:Temple Emanu-El • Dallas\, Texas\, 8500 Hillcrest Rd\, Dallas\, 75225\, United States
CATEGORIES:Featured
ATTACH;FMTTYPE=image/png:https://faithcommons.org/wp-content/uploads/2026/04/future-is-peace-horizontal-scaled-e1776263107456.png
ORGANIZER;CN="Faith Commons":MAILTO:info@faithcommons.org
END:VEVENT
END:VCALENDAR